Package: systemPipeRdata Version: 2.13.2 Command: /home/biocbuild/bbs-3.22-bioc/R/bin/R CMD build --keep-empty-dirs --no-resave-data systemPipeRdata StartedAt: 2025-07-15 11:42:34 -0400 (Tue, 15 Jul 2025) EndedAt: 2025-07-15 11:43:41 -0400 (Tue, 15 Jul 2025) EllapsedTime: 67.8 seconds RetCode: 0 Status: OK PackageFile: systemPipeRdata_2.13.2.tar.gz PackageFileSize: 272.7 MiB