Package: systemPipeRdata Version: 2.13.2 Command: /home/biocbuild/bbs-3.22-bioc/R/bin/R CMD INSTALL systemPipeRdata StartedAt: 2025-07-15 10:56:28 -0400 (Tue, 15 Jul 2025) EndedAt: 2025-07-15 10:56:38 -0400 (Tue, 15 Jul 2025) EllapsedTime: 9.7 seconds RetCode: 0 Status: OK