Package: tinesath1cdf Version: 1.47.0 Command: /home/biocbuild/bbs-3.22-bioc/R/bin/R CMD build --keep-empty-dirs --no-resave-data tinesath1cdf StartedAt: 2025-07-17 11:46:39 -0400 (Thu, 17 Jul 2025) EndedAt: 2025-07-17 11:46:41 -0400 (Thu, 17 Jul 2025) EllapsedTime: 1.3 seconds RetCode: 0 Status: OK PackageFile: tinesath1cdf_1.47.0.tar.gz PackageFileSize: 1.478 MiB