Package: tweeDEseqCountData Version: 1.47.0 Command: /home/biocbuild/bbs-3.22-bioc/R/bin/R CMD INSTALL tweeDEseqCountData StartedAt: 2025-07-15 10:56:12 -0400 (Tue, 15 Jul 2025) EndedAt: 2025-07-15 10:56:15 -0400 (Tue, 15 Jul 2025) EllapsedTime: 3.1 seconds RetCode: 0 Status: OK