Package: yeastCC Version: 1.50.0 Command: /home/biocbuild/bbs-3.22-bioc/R/bin/R CMD build --keep-empty-dirs --no-resave-data yeastCC StartedAt: 2025-11-25 11:48:43 -0500 (Tue, 25 Nov 2025) EndedAt: 2025-11-25 11:48:46 -0500 (Tue, 25 Nov 2025) EllapsedTime: 2.8 seconds RetCode: 0 Status: OK PackageFile: yeastCC_1.50.0.tar.gz PackageFileSize: 5.842 MiB