Package: yeastExpData Version: 0.55.0 Command: /home/biocbuild/bbs-3.22-bioc/R/bin/R CMD build --keep-empty-dirs --no-resave-data yeastExpData StartedAt: 2025-07-17 11:48:25 -0400 (Thu, 17 Jul 2025) EndedAt: 2025-07-17 11:48:34 -0400 (Thu, 17 Jul 2025) EllapsedTime: 8.3 seconds RetCode: 0 Status: OK PackageFile: yeastExpData_0.55.0.tar.gz PackageFileSize: 935.1 KiB