Package: scviR Version: 1.11.0 Maintainer: Vincent Carey MaintainerEmail: stvjc@channing.harvard.edu GPU_reliance: optional Package: orthos Version: 1.9.0 Maintainer: Panagiotis Papasaikas MaintainerEmail: panagiotis.papasaikas@fmi.ch GPU_reliance: optional Package: RbowtieCuda Version: 1.3.0 Maintainer: Franck RICHARD MaintainerEmail: franck.richard@winstars.net UnsupportedPlatforms: win, mac GPU_reliance: required