Welcome to mirrors.dotsrc.org

All our mirrors of open source software are available via http, https, ftp and an onion service. More information about our mirrors including statistics and contact information is available on our mirror info pages.

For information about dotsrc.org and our other services please go to our website.

Index of /bioconductor/checkResults/3.23/data-experiment-LATEST/

File Name  ↓ File Size  ↓ Date  ↓ 
--
-2025-11-04 20:01:32
-2025-11-04 20:01:32
-2025-11-04 20:01:32
-2025-11-04 20:01:32
-2025-11-04 20:01:32
-2025-11-04 20:01:32
-2025-11-04 20:01:32
-2025-11-04 20:01:32
-2025-11-04 20:01:32
-2025-11-04 20:01:32
-2025-11-04 20:01:32
-2025-11-04 20:01:32
-2025-11-04 20:01:32
-2025-11-04 20:01:32
-2025-11-04 20:01:32
-2025-11-04 20:01:32
-2025-11-04 20:01:32
-2025-11-04 20:01:32
-2025-11-04 20:01:32
-2025-11-04 20:01:32
-2025-11-04 20:01:32
-2025-11-04 20:01:32
-2025-11-04 20:01:32
-2025-11-04 20:01:32
-2025-11-04 20:01:32
-2025-11-04 20:01:32
-2025-11-04 20:01:32
-2025-11-04 20:01:32
-2025-11-04 20:01:32
-2025-11-04 20:01:32
-2025-11-04 20:01:32
-2025-11-04 20:01:32
-2025-11-04 20:01:32
-2025-11-04 20:01:32
-2025-11-04 20:01:32
-2025-11-04 20:01:32
-2025-11-04 20:01:32
-2025-11-04 20:01:32
-2025-11-04 20:01:32
-2025-11-04 20:01:32
-2025-11-04 20:01:32
-2025-11-04 20:01:32
-2025-11-04 20:01:32
-2025-11-04 20:01:32
-2025-11-04 20:01:32
-2025-11-04 20:01:32
-2025-11-04 20:01:32
-2025-11-04 20:01:32
-2025-11-04 20:01:32
-2025-11-04 20:01:32
-2025-11-04 20:01:32
-2025-11-04 20:01:32
-2025-11-04 20:01:32
-2025-11-04 20:01:32
-2025-11-04 20:01:32
-2025-11-04 20:01:32
-2025-11-04 20:01:32
-2025-11-04 20:01:32
-2025-11-04 20:01:32
-2025-11-04 20:01:32
-2025-11-04 20:01:32
-2025-11-04 20:01:32
-2025-11-04 20:01:32
-2025-11-04 20:01:32
-2025-11-04 20:01:32
-2025-11-04 20:01:32
-2025-11-04 20:01:32
-2025-11-04 20:01:32
-2025-11-04 20:01:32
-2025-11-04 20:01:32
-2025-11-04 20:01:32
-2025-11-04 20:01:32
-2025-11-04 20:01:32
-2025-11-04 20:01:32
-2025-11-04 20:01:32
-2025-11-04 20:01:32
-2025-11-04 20:01:32
-2025-11-04 20:01:32
-2025-11-04 20:01:32
-2025-11-04 20:01:33
-2025-11-04 20:01:33
-2025-11-04 20:01:33
-2025-11-04 20:01:33
-2025-11-04 20:01:33
-2025-11-04 20:01:33
-2025-11-04 20:01:33
-2025-11-04 20:01:33
-2025-11-04 20:01:32
-2025-11-04 20:01:32
-2025-11-04 20:01:33
-2025-11-04 20:01:33
-2025-11-04 20:01:33
-2025-11-04 20:01:33
-2025-11-04 20:01:33
-2025-11-04 20:01:33
-2025-11-04 20:01:33
-2025-11-04 20:01:33
-2025-11-04 20:01:33
-2025-11-04 20:01:33
-2025-11-04 20:01:33
-2025-11-04 20:01:33
-2025-11-04 20:01:33
-2025-11-04 20:01:33
-2025-11-04 20:01:33
-2025-11-04 20:01:33
-2025-11-04 20:01:33
-2025-11-04 20:01:33
-2025-11-04 20:01:33
-2025-11-04 20:01:33
-2025-11-04 20:01:33
-2025-11-04 20:01:33
-2025-11-04 20:01:33
-2025-11-04 20:01:33
-2025-11-04 20:01:33
-2025-11-04 20:01:33
-2025-11-04 20:01:33
-2025-11-04 20:01:33
-2025-11-04 20:01:33
-2025-11-04 20:01:33
-2025-11-04 20:01:33
-2025-11-04 20:01:33
-2025-11-04 20:01:33
-2025-11-04 20:01:33
-2025-11-04 20:01:33
-2025-11-04 20:01:33
-2025-11-04 20:01:33
-2025-11-04 20:01:33
-2025-11-04 20:01:33
-2025-11-04 20:01:33
-2025-11-04 20:01:33
-2025-11-04 20:01:33
-2025-11-04 20:01:33
-2025-11-04 20:01:33
-2025-11-04 20:01:33
-2025-11-04 20:01:33
-2025-11-04 20:01:33
-2025-11-04 20:01:33
-2025-11-04 20:01:33
-2025-11-04 20:01:33
-2025-11-04 20:01:33
-2025-11-04 20:01:33
-2025-11-04 20:01:33
-2025-11-04 20:01:33
-2025-11-04 20:01:33
-2025-11-04 20:01:33
-2025-11-04 20:01:33
-2025-11-04 20:01:33
-2025-11-04 20:01:33
-2025-11-04 20:01:33
-2025-11-04 20:01:33
-2025-11-04 20:01:33
-2025-11-04 20:01:33
-2025-11-04 20:01:33
-2025-11-04 20:01:33
-2025-11-04 20:01:33
-2025-11-04 20:01:33
-2025-11-04 20:01:33
-2025-11-04 20:01:33
-2025-11-04 20:01:33
-2025-11-04 20:01:33
-2025-11-04 20:01:33
-2025-11-04 20:01:33
-2025-11-04 20:01:33
-2025-11-04 20:01:33
-2025-11-04 20:01:33
-2025-11-04 20:01:33
-2025-11-04 20:01:33
-2025-11-04 20:01:33
-2025-11-04 20:01:33
-2025-11-04 20:01:33
-2025-11-04 20:01:33
-2025-11-04 20:01:33
-2025-11-04 20:01:33
-2025-11-04 20:01:33
-2025-11-04 20:01:33
-2025-11-04 20:01:33
-2025-11-04 20:01:33
-2025-11-04 20:01:33
-2025-11-04 20:01:33
-2025-11-04 20:01:33
-2025-11-04 20:01:33
-2025-11-04 20:01:33
-2025-11-04 20:01:33
-2025-11-04 20:01:33
-2025-11-04 20:01:33
-2025-11-04 20:01:33
-2025-11-04 20:01:33
-2025-11-04 20:01:33
-2025-11-04 20:01:33
-2025-11-04 20:01:33
-2025-11-04 20:01:33
-2025-11-04 20:01:33
-2025-11-04 20:01:33
-2025-11-04 20:01:33
-2025-11-04 20:01:33
-2025-11-04 20:01:33
-2025-11-04 20:01:33
-2025-11-04 20:01:33
-2025-11-04 20:01:33
-2025-11-04 20:01:33
-2025-11-04 20:01:33
-2025-11-04 20:01:33
-2025-11-04 20:01:33
-2025-11-04 20:01:33
-2025-11-04 20:01:33
-2025-11-04 20:01:33
-2025-11-04 20:01:33
-2025-11-04 20:01:33
-2025-11-04 20:01:33
-2025-11-04 20:01:33
-2025-11-04 20:01:33
-2025-11-04 20:01:33
-2025-11-04 20:01:33
-2025-11-04 20:01:33
-2025-11-04 20:01:33
-2025-11-04 20:01:33
-2025-11-04 20:01:33
-2025-11-04 20:01:33
-2025-11-04 20:01:33
-2025-11-04 20:01:33
-2025-11-04 20:01:33
-2025-11-04 20:01:33
-2025-11-04 20:01:33
-2025-11-04 20:01:33
-2025-11-04 20:01:33
-2025-11-04 20:01:33
-2025-11-04 20:01:33
-2025-11-04 20:01:33
-2025-11-04 20:01:32
-2025-11-04 20:01:32
-2025-11-04 20:01:32
-2025-11-04 20:01:32
-2025-11-04 20:01:32
-2025-11-04 20:01:32
-2025-11-04 20:01:32
-2025-11-04 20:01:32
-2025-11-04 20:01:32
-2025-11-04 20:01:32
-2025-11-04 20:01:32
-2025-11-04 20:01:32
-2025-11-04 20:01:32
-2025-11-04 20:01:32
-2025-11-04 20:01:32
-2025-11-04 20:01:32
-2025-11-04 20:01:32
-2025-11-04 20:01:32
-2025-11-04 20:01:32
-2025-11-04 20:01:32
-2025-11-04 20:01:32
-2025-11-04 20:01:32
-2025-11-04 20:01:32
-2025-11-04 20:01:32
-2025-11-04 20:01:32
-2025-11-04 20:01:32
-2025-11-04 20:01:32
-2025-11-04 20:01:32
-2025-11-04 20:01:32
-2025-11-04 20:01:32
-2025-11-04 20:01:32
-2025-11-04 20:01:32
-2025-11-04 20:01:32
-2025-11-04 20:01:32
-2025-11-04 20:01:32
-2025-11-04 20:01:32
-2025-11-04 20:01:32
-2025-11-04 20:01:32
-2025-11-04 20:01:32
-2025-11-04 20:01:32
-2025-11-04 20:01:32
-2025-11-04 20:01:32
-2025-11-04 20:01:32
-2025-11-04 20:01:32
-2025-11-04 20:01:32
-2025-11-04 20:01:32
-2025-11-04 20:01:32
-2025-11-04 20:01:32
-2025-11-04 20:01:32
-2025-11-04 20:01:32
-2025-11-04 20:01:32
-2025-11-04 20:01:32
-2025-11-04 20:01:32
-2025-11-04 20:01:32
-2025-11-04 20:01:32
-2025-11-04 20:01:32
-2025-11-04 20:01:32
-2025-11-04 20:01:32
-2025-11-04 20:01:32
-2025-11-04 20:01:32
-2025-11-04 20:01:32
-2025-11-04 20:01:32
-2025-11-04 20:01:32
-2025-11-04 20:01:32
-2025-11-04 20:01:32
-2025-11-04 20:01:32
-2025-11-04 20:01:32
-2025-11-04 20:01:32
-2025-11-04 20:01:32
-2025-11-04 20:01:32
-2025-11-04 20:01:32
-2025-11-04 20:01:32
-2025-11-04 20:01:32
-2025-11-04 20:01:32
-2025-11-04 20:01:32
-2025-11-04 20:01:32
-2025-11-04 20:01:32
-2025-11-04 20:01:32
-2025-11-04 20:01:32
-2025-11-04 20:01:32
-2025-11-04 20:01:32
-2025-11-04 20:01:32
-2025-11-04 20:01:32
-2025-11-04 20:01:32
-2025-11-04 20:01:32
-2025-11-04 20:01:32
-2025-11-04 20:01:32
-2025-11-04 20:01:32
-2025-11-04 20:01:32
-2025-11-04 20:01:32
-2025-11-04 20:01:32
-2025-11-04 20:01:32
-2025-11-04 20:01:33
-2025-11-04 20:01:33
-2025-11-04 20:01:33
-2025-11-04 20:01:33
-2025-11-04 20:01:33
-2025-11-04 20:01:33
-2025-11-04 20:01:33
-2025-11-04 20:01:33
-2025-11-04 20:01:33
-2025-11-04 20:01:33
-2025-11-04 20:01:33
-2025-11-04 20:01:33
-2025-11-04 20:01:33
-2025-11-04 20:01:33
-2025-11-04 20:01:33
-2025-11-04 20:01:33
-2025-11-04 20:01:33
-2025-11-04 20:01:33
-2025-11-04 20:01:33
-2025-11-04 20:01:33
-2025-11-04 20:01:33
-2025-11-04 20:01:33
-2025-11-04 20:01:33
-2025-11-04 20:01:33
-2025-11-04 20:01:33
-2025-11-04 20:01:33
-2025-11-04 20:01:33
-2025-11-04 20:01:33
-2025-11-04 20:01:33
-2025-11-04 20:01:33
-2025-11-04 20:01:33
-2025-11-04 20:01:33
-2025-11-04 20:01:33
-2025-11-04 20:01:33
-2025-11-04 20:01:33
-2025-11-04 20:01:33
-2025-11-04 20:01:33
-2025-11-04 20:01:33
-2025-11-04 20:01:33
-2025-11-04 20:01:33
-2025-11-04 20:01:33
-2025-11-04 20:01:33
-2025-11-04 20:01:33
-2025-11-04 20:01:33
-2025-11-04 20:01:33
-2025-11-04 20:01:33
-2025-11-04 20:01:33
-2025-11-04 20:01:33
-2025-11-04 20:01:33
-2025-11-04 20:01:33
-2025-11-04 20:01:33
-2025-11-04 20:01:33
-2025-11-04 20:01:33
-2025-11-04 20:01:33
-2025-11-04 20:01:33
-2025-11-04 20:01:33
-2025-11-04 20:01:33
-2025-11-04 20:01:33
-2025-11-04 20:01:33
-2025-11-04 20:01:33
-2025-11-04 20:01:33
-2025-11-04 20:01:33
-2025-11-04 20:01:33
-2025-11-04 20:01:33
-2025-11-04 20:01:33
-2025-11-04 20:01:33
-2025-11-04 20:01:33
-2025-11-04 20:01:33
-2025-11-04 20:01:33
-2025-11-04 20:01:33
-2025-11-04 20:01:33
-2025-11-04 20:01:33
-2025-11-04 20:01:33
-2025-11-04 20:01:33
-2025-11-04 20:01:33
-2025-11-04 20:01:33
-2025-11-04 20:01:33
-2025-11-04 20:01:33
-2025-11-04 20:01:33
-2025-11-04 20:01:33
-2025-11-04 20:01:33
-2025-11-04 20:01:33
-2025-11-04 20:01:33
-2025-11-04 20:01:33
-2025-11-04 20:01:33
-2025-11-04 20:01:33
-2025-11-04 20:01:33
-2025-11-04 20:01:33
-2025-11-04 20:01:33
-2025-11-04 20:01:33
-2025-11-04 20:01:33
-2025-11-04 20:01:33
-2025-11-04 20:01:33
-2025-11-04 20:01:33
-2025-11-04 20:01:33
-2025-11-04 20:01:33
-2025-11-04 20:01:33
-2025-11-04 20:01:33
-2025-11-04 20:01:33
-2025-11-04 20:01:33
-2025-11-04 20:01:33
-2025-11-04 20:01:33
-2025-11-04 20:01:33
-2025-11-04 20:01:33
-2025-11-04 20:01:33
-2025-11-04 20:01:33
-2025-11-04 20:01:33
-2025-11-04 20:01:33
-2025-11-04 20:01:33
-2025-11-04 20:01:33
-2025-11-04 20:01:33
7.1 KiB2025-11-04 20:01:31
7.1 KiB2025-11-04 20:01:31
7.0 KiB2025-11-04 20:01:31
47.1 KiB2025-11-04 20:01:31
2.6 KiB2025-11-04 20:01:31
24.3 KiB2025-11-04 20:01:31
3.3 KiB2025-11-04 20:01:31
582.3 KiB2025-11-04 20:01:34
46.3 KiB2025-11-04 20:01:31
7.4 KiB2025-11-04 20:01:31
526.9 KiB2025-11-04 20:01:31
11.9 KiB2025-11-04 20:01:31
6.0 KiB2025-11-04 20:01:31
1.2 MiB2025-11-04 20:01:36
0 B2025-11-04 20:01:31