Package: AWAggregatorData Version: 1.1.0 Maintainer: Jiahua Tan MaintainerEmail: jiahuatan at chem.ubc.ca git_url: https://git.bioconductor.org/packages/AWAggregatorData git_branch: devel git_last_commit: da6d936 git_last_commit_date: 2025-10-29 10:07:01 -0500 (Wed, 29 Oct 2025)