Package: AssessORFData Version: 1.29.0 Maintainer: Nicholas Cooley MaintainerEmail: npc19 at pitt.edu git_url: https://git.bioconductor.org/packages/AssessORFData git_branch: devel git_last_commit: f19a398 git_last_commit_date: 2025-10-29 10:00:56 -0500 (Wed, 29 Oct 2025)