Package: BloodCancerMultiOmics2017 Version: 1.31.0 Maintainer: Małgorzata Oleś MaintainerEmail: dr.malgorzata.oles at gmail.com git_url: https://git.bioconductor.org/packages/BloodCancerMultiOmics2017 git_branch: devel git_last_commit: 0fc68c7 git_last_commit_date: 2025-10-29 09:59:55 -0500 (Wed, 29 Oct 2025)