Package: CENTREprecomputed Version: 1.1.0 Command: /home/biocbuild/bbs-3.23-bioc/R/bin/R CMD build --keep-empty-dirs --no-resave-data CENTREprecomputed StartedAt: 2025-11-18 11:09:32 -0500 (Tue, 18 Nov 2025) EndedAt: 2025-11-18 11:10:02 -0500 (Tue, 18 Nov 2025) EllapsedTime: 30.0 seconds RetCode: 0 Status: OK PackageFile: CENTREprecomputed_1.1.0.tar.gz PackageFileSize: 225.8 KiB