Package: CLLmethylation Version: 1.31.0 Maintainer: Malgorzata Oles , Andreas Mock MaintainerEmail: andreas.mock at embl.de git_url: https://git.bioconductor.org/packages/CLLmethylation git_branch: devel git_last_commit: 075775e git_last_commit_date: 2025-10-29 09:59:58 -0500 (Wed, 29 Oct 2025)