Package: COSMIC.67 Version: 1.47.0 Maintainer: Julian Gehring MaintainerEmail: jg-bioc at gmx.com git_url: https://git.bioconductor.org/packages/COSMIC.67 git_branch: devel git_last_commit: d2199ba git_last_commit_date: 2025-10-29 09:54:24 -0500 (Wed, 29 Oct 2025)