Package: CRCL18 Version: 1.31.0 Maintainer: Claudio Isella MaintainerEmail: claudio.isella at ircc.it git_url: https://git.bioconductor.org/packages/CRCL18 git_branch: devel git_last_commit: b007204 git_last_commit_date: 2025-10-29 09:55:29 -0500 (Wed, 29 Oct 2025)