Package: CardinalWorkflows Version: 1.43.0 Command: /home/biocbuild/bbs-3.23-bioc/R/bin/R CMD INSTALL CardinalWorkflows StartedAt: 2025-11-06 10:57:57 -0500 (Thu, 06 Nov 2025) EndedAt: 2025-11-06 10:58:10 -0500 (Thu, 06 Nov 2025) EllapsedTime: 12.4 seconds RetCode: 0 Status: OK