Package: ChIPDBData Version: 1.1.0 Maintainer: Yosra Berrouayel MaintainerEmail: yosraberrouayel at gmail.com git_url: https://git.bioconductor.org/packages/ChIPDBData git_branch: devel git_last_commit: d77edb2 git_last_commit_date: 2025-10-29 10:07:07 -0500 (Wed, 29 Oct 2025)