Package: ChIPXpressData Version: 1.49.0 Maintainer: George Wu MaintainerEmail: gewu at jhsph.edu git_url: https://git.bioconductor.org/packages/ChIPXpressData git_branch: devel git_last_commit: c71f8b6 git_last_commit_date: 2025-10-29 09:33:31 -0500 (Wed, 29 Oct 2025)