Package: CytoMethIC Version: 1.7.0 Maintainer: Jacob Fanale MaintainerEmail: jfanale at seas.upenn.edu git_url: https://git.bioconductor.org/packages/CytoMethIC git_branch: devel git_last_commit: b4ad7c0 git_last_commit_date: 2025-10-29 10:06:26 -0500 (Wed, 29 Oct 2025)