Package: DuoClustering2018 Version: 1.29.0 Maintainer: Angelo Duò MaintainerEmail: angelo.duo at icloud.com git_url: https://git.bioconductor.org/packages/DuoClustering2018 git_branch: devel git_last_commit: 0334a08 git_last_commit_date: 2025-10-29 10:00:36 -0500 (Wed, 29 Oct 2025)