Package: FlowSorted.CordBloodCombined.450k Version: 1.27.0 Maintainer: Lucas A. Salas MaintainerEmail: lucas.a.salas.diaz at dartmouth.edu git_url: https://git.bioconductor.org/packages/FlowSorted.CordBloodCombined.450k git_branch: devel git_last_commit: 0cbf411 git_last_commit_date: 2025-10-29 10:01:18 -0500 (Wed, 29 Oct 2025)