Package: GSBenchMark Version: 1.31.0 Command: /home/biocbuild/bbs-3.23-bioc/R/bin/R CMD build --keep-empty-dirs --no-resave-data GSBenchMark StartedAt: 2025-11-06 11:20:24 -0500 (Thu, 06 Nov 2025) EndedAt: 2025-11-06 11:20:36 -0500 (Thu, 06 Nov 2025) EllapsedTime: 12.0 seconds RetCode: 0 Status: OK PackageFile: GSBenchMark_1.31.0.tar.gz PackageFileSize: 41.87 MiB