Package: GeuvadisTranscriptExpr Version: 1.39.0 Command: /home/biocbuild/bbs-3.23-bioc/R/bin/R CMD INSTALL GeuvadisTranscriptExpr StartedAt: 2025-11-06 10:55:57 -0500 (Thu, 06 Nov 2025) EndedAt: 2025-11-06 10:56:02 -0500 (Thu, 06 Nov 2025) EllapsedTime: 5.0 seconds RetCode: 0 Status: OK