Package: ITALICSData Version: 2.49.0 Maintainer: Guillem Rigaill MaintainerEmail: italics at curie.fr git_url: https://git.bioconductor.org/packages/ITALICSData git_branch: devel git_last_commit: fc81046 git_last_commit_date: 2025-10-29 09:31:26 -0500 (Wed, 29 Oct 2025)