Package: ITALICSData Version: 2.49.0 Command: /home/biocbuild/bbs-3.23-bioc/R/bin/R CMD build --keep-empty-dirs --no-resave-data ITALICSData StartedAt: 2025-11-11 11:25:08 -0500 (Tue, 11 Nov 2025) EndedAt: 2025-11-11 11:26:22 -0500 (Tue, 11 Nov 2025) EllapsedTime: 74.2 seconds RetCode: 0 Status: OK PackageFile: ITALICSData_2.49.0.tar.gz PackageFileSize: 83.5 MiB