Package: ITALICSData Version: 2.49.0 Command: /home/biocbuild/bbs-3.23-bioc/R/bin/R CMD INSTALL ITALICSData StartedAt: 2025-11-11 10:55:24 -0500 (Tue, 11 Nov 2025) EndedAt: 2025-11-11 10:55:26 -0500 (Tue, 11 Nov 2025) EllapsedTime: 2.4 seconds RetCode: 0 Status: OK