Package: JASPAR2014 Version: 1.47.0 Maintainer: Ge Tan MaintainerEmail: ge_tan at live.com git_url: https://git.bioconductor.org/packages/JASPAR2014 git_branch: devel git_last_commit: d27e6eb git_last_commit_date: 2025-10-29 09:54:14 -0500 (Wed, 29 Oct 2025)