Package: JASPAR2014 Version: 1.47.0 Command: /home/biocbuild/bbs-3.23-bioc/R/bin/R CMD build --keep-empty-dirs --no-resave-data JASPAR2014 StartedAt: 2025-11-11 11:25:38 -0500 (Tue, 11 Nov 2025) EndedAt: 2025-11-11 11:25:45 -0500 (Tue, 11 Nov 2025) EllapsedTime: 7.0 seconds RetCode: 0 Status: OK PackageFile: JASPAR2014_1.47.0.tar.gz PackageFileSize: 42.89 MiB