Package: JASPAR2016 Version: 1.39.0 Command: /home/biocbuild/bbs-3.23-bioc/R/bin/R CMD build --keep-empty-dirs --no-resave-data JASPAR2016 StartedAt: 2025-11-27 11:25:52 -0500 (Thu, 27 Nov 2025) EndedAt: 2025-11-27 11:25:58 -0500 (Thu, 27 Nov 2025) EllapsedTime: 5.3 seconds RetCode: 0 Status: OK PackageFile: JASPAR2016_1.39.0.tar.gz PackageFileSize: 8.715 MiB