Package: LegATo Version: 1.5.0 Command: /home/biocbuild/bbs-3.23-bioc/R/bin/R CMD build --keep-empty-dirs --no-resave-data LegATo StartedAt: 2025-11-27 11:26:26 -0500 (Thu, 27 Nov 2025) EndedAt: 2025-11-27 11:28:05 -0500 (Thu, 27 Nov 2025) EllapsedTime: 98.6 seconds RetCode: 0 Status: OK PackageFile: LegATo_1.5.0.tar.gz PackageFileSize: 1.236 MiB