Package: LegATo Version: 1.5.0 Command: /home/biocbuild/bbs-3.23-bioc/R/bin/R CMD INSTALL LegATo StartedAt: 2025-11-25 11:04:27 -0500 (Tue, 25 Nov 2025) EndedAt: 2025-11-25 11:04:48 -0500 (Tue, 25 Nov 2025) EllapsedTime: 20.3 seconds RetCode: 0 Status: OK