Package: MSMB Version: 1.29.0 Command: /home/biocbuild/bbs-3.23-bioc/R/bin/R CMD INSTALL MSMB StartedAt: 2025-11-11 10:56:32 -0500 (Tue, 11 Nov 2025) EndedAt: 2025-11-11 10:56:35 -0500 (Tue, 11 Nov 2025) EllapsedTime: 2.8 seconds RetCode: 0 Status: OK