Package: MerfishData Version: 1.13.0 Maintainer: Ludwig Geistlinger MaintainerEmail: ludwig_geistlinger at hms.harvard.edu git_url: https://git.bioconductor.org/packages/MerfishData git_branch: devel git_last_commit: ef1e293 git_last_commit_date: 2025-10-29 10:05:03 -0500 (Wed, 29 Oct 2025)