Package: MicrobiomeBenchmarkData Version: 1.13.0 Command: /home/biocbuild/bbs-3.23-bioc/R/bin/R CMD INSTALL MicrobiomeBenchmarkData StartedAt: 2025-11-06 10:58:58 -0500 (Thu, 06 Nov 2025) EndedAt: 2025-11-06 10:59:26 -0500 (Thu, 06 Nov 2025) EllapsedTime: 27.3 seconds RetCode: 0 Status: OK