Package: NetActivityData Version: 1.13.0 Command: /home/biocbuild/bbs-3.23-bioc/R/bin/R CMD build --keep-empty-dirs --no-resave-data NetActivityData StartedAt: 2025-11-06 11:33:15 -0500 (Thu, 06 Nov 2025) EndedAt: 2025-11-06 11:33:30 -0500 (Thu, 06 Nov 2025) EllapsedTime: 14.5 seconds RetCode: 0 Status: OK PackageFile: NetActivityData_1.13.0.tar.gz PackageFileSize: 5.269 MiB