Package: NetActivityData Version: 1.13.0 Command: /home/biocbuild/bbs-3.23-bioc/R/bin/R CMD INSTALL NetActivityData StartedAt: 2025-11-06 10:55:56 -0500 (Thu, 06 Nov 2025) EndedAt: 2025-11-06 10:56:01 -0500 (Thu, 06 Nov 2025) EllapsedTime: 4.5 seconds RetCode: 0 Status: OK