Package: QDNAseq.hg19 Version: 1.41.0 Maintainer: Daoud Sie MaintainerEmail: d.sie at vumc.nl git_url: https://git.bioconductor.org/packages/QDNAseq.hg19 git_branch: devel git_last_commit: 1edda98 git_last_commit_date: 2025-10-29 09:57:05 -0500 (Wed, 29 Oct 2025)