Package: QDNAseq.mm10 Version: 1.41.0 Command: /home/biocbuild/bbs-3.23-bioc/R/bin/R CMD build --keep-empty-dirs --no-resave-data QDNAseq.mm10 StartedAt: 2025-11-06 11:36:43 -0500 (Thu, 06 Nov 2025) EndedAt: 2025-11-06 11:36:47 -0500 (Thu, 06 Nov 2025) EllapsedTime: 3.3 seconds RetCode: 0 Status: OK PackageFile: QDNAseq.mm10_1.41.0.tar.gz PackageFileSize: 31.18 MiB