Package: RUVnormalizeData Version: 1.31.0 Maintainer: Laurent Jacob MaintainerEmail: laurent.jacob at univ-lyon1.fr git_url: https://git.bioconductor.org/packages/RUVnormalizeData git_branch: devel git_last_commit: 9e78531 git_last_commit_date: 2025-10-29 09:55:34 -0500 (Wed, 29 Oct 2025)