Package: RcisTarget.hg19.motifDBs.cisbpOnly.500bp Version: 1.31.0 Maintainer: Sara Aibar MaintainerEmail: sara.aibar at kuleuven.vib.be git_url: https://git.bioconductor.org/packages/RcisTarget.hg19.motifDBs.cisbpOnly.500bp git_branch: devel git_last_commit: 767f18d git_last_commit_date: 2025-10-29 09:59:51 -0500 (Wed, 29 Oct 2025)