Package: ReactomeGSA.data Version: 1.25.0 Maintainer: Johannes Griss MaintainerEmail: johannes.griss at meduniwien.ac.at git_url: https://git.bioconductor.org/packages/ReactomeGSA.data git_branch: devel git_last_commit: a2a3132 git_last_commit_date: 2025-10-29 10:02:01 -0500 (Wed, 29 Oct 2025)