Package: ReactomeGSA.data Version: 1.25.0 Command: /home/biocbuild/bbs-3.23-bioc/R/bin/R CMD INSTALL ReactomeGSA.data StartedAt: 2025-11-06 11:03:33 -0500 (Thu, 06 Nov 2025) EndedAt: 2025-11-06 11:03:52 -0500 (Thu, 06 Nov 2025) EllapsedTime: 19.3 seconds RetCode: 0 Status: OK