Package: RforProteomics Version: 1.49.0 Command: /home/biocbuild/bbs-3.23-bioc/R/bin/R CMD INSTALL RforProteomics StartedAt: 2025-11-13 11:00:22 -0500 (Thu, 13 Nov 2025) EndedAt: 2025-11-13 11:01:00 -0500 (Thu, 13 Nov 2025) EllapsedTime: 37.5 seconds RetCode: 0 Status: OK