Package: SpatialDatasets Version: 1.9.0 Maintainer: Ellis Patrick MaintainerEmail: ellis.patrick at sydney.edu.au git_url: https://git.bioconductor.org/packages/SpatialDatasets git_branch: devel git_last_commit: 971469e git_last_commit_date: 2025-10-29 10:06:00 -0500 (Wed, 29 Oct 2025)