Package: SpatialDatasets Version: 1.9.0 Command: /home/biocbuild/bbs-3.23-bioc/R/bin/R CMD INSTALL SpatialDatasets StartedAt: 2025-11-06 10:58:31 -0500 (Thu, 06 Nov 2025) EndedAt: 2025-11-06 10:59:00 -0500 (Thu, 06 Nov 2025) EllapsedTime: 29.7 seconds RetCode: 0 Status: OK