Package: SpikeIn Version: 1.53.0 Command: /home/biocbuild/bbs-3.23-bioc/R/bin/R CMD build --keep-empty-dirs --no-resave-data SpikeIn StartedAt: 2025-11-18 11:44:39 -0500 (Tue, 18 Nov 2025) EndedAt: 2025-11-18 11:44:50 -0500 (Tue, 18 Nov 2025) EllapsedTime: 11.4 seconds RetCode: 0 Status: OK PackageFile: SpikeIn_1.53.0.tar.gz PackageFileSize: 63.05 MiB