Package: TENxXeniumData Version: 1.7.0 Command: /home/biocbuild/bbs-3.23-bioc/R/bin/R CMD INSTALL TENxXeniumData StartedAt: 2025-11-06 11:03:03 -0500 (Thu, 06 Nov 2025) EndedAt: 2025-11-06 11:03:58 -0500 (Thu, 06 Nov 2025) EllapsedTime: 54.9 seconds RetCode: 0 Status: OK