Package: TMExplorer Version: 1.21.0 Command: /home/biocbuild/bbs-3.23-bioc/R/bin/R CMD INSTALL TMExplorer StartedAt: 2025-11-11 10:59:40 -0500 (Tue, 11 Nov 2025) EndedAt: 2025-11-11 11:00:05 -0500 (Tue, 11 Nov 2025) EllapsedTime: 24.8 seconds RetCode: 0 Status: OK