Package: TargetSearchData Version: 1.49.0 Maintainer: Alvaro Cuadros-Inostroza MaintainerEmail: acuadros+bioc at gmail.com git_url: https://git.bioconductor.org/packages/TargetSearchData git_branch: devel git_last_commit: 66dd545 git_last_commit_date: 2025-10-29 09:31:37 -0500 (Wed, 29 Oct 2025)