Package: VariantToolsData Version: 1.35.0 Command: /home/biocbuild/bbs-3.23-bioc/R/bin/R CMD INSTALL VariantToolsData StartedAt: 2025-11-06 11:03:44 -0500 (Thu, 06 Nov 2025) EndedAt: 2025-11-06 11:04:21 -0500 (Thu, 06 Nov 2025) EllapsedTime: 37.5 seconds RetCode: 0 Status: OK